BEGIN:VCALENDAR
VERSION:2.0
PRODID:-//Erbsenschreck - Veganistische Musik - ECPv6.15.20//NONSGML v1.0//EN
CALSCALE:GREGORIAN
METHOD:PUBLISH
X-WR-CALNAME:Erbsenschreck - Veganistische Musik
X-ORIGINAL-URL:https://www.erbsenschreck.de
X-WR-CALDESC:Veranstaltungen für Erbsenschreck - Veganistische Musik
REFRESH-INTERVAL;VALUE=DURATION:PT1H
X-Robots-Tag:noindex
X-PUBLISHED-TTL:PT1H
BEGIN:VTIMEZONE
TZID:Europe/Berlin
BEGIN:DAYLIGHT
TZOFFSETFROM:+0100
TZOFFSETTO:+0200
TZNAME:CEST
DTSTART:20240331T010000
END:DAYLIGHT
BEGIN:STANDARD
TZOFFSETFROM:+0200
TZOFFSETTO:+0100
TZNAME:CET
DTSTART:20241027T010000
END:STANDARD
BEGIN:DAYLIGHT
TZOFFSETFROM:+0100
TZOFFSETTO:+0200
TZNAME:CEST
DTSTART:20250330T010000
END:DAYLIGHT
BEGIN:STANDARD
TZOFFSETFROM:+0200
TZOFFSETTO:+0100
TZNAME:CET
DTSTART:20251026T010000
END:STANDARD
BEGIN:DAYLIGHT
TZOFFSETFROM:+0100
TZOFFSETTO:+0200
TZNAME:CEST
DTSTART:20260329T010000
END:DAYLIGHT
BEGIN:STANDARD
TZOFFSETFROM:+0200
TZOFFSETTO:+0100
TZNAME:CET
DTSTART:20261025T010000
END:STANDARD
END:VTIMEZONE
BEGIN:VEVENT
DTSTART;TZID=Europe/Berlin:20251004T193000
DTEND;TZID=Europe/Berlin:20251004T230000
DTSTAMP:20260421T032056
CREATED:20250714T140252Z
LAST-MODIFIED:20250923T082313Z
UID:2877-1759606200-1759618800@www.erbsenschreck.de
SUMMARY:Erbsenschreck\, Volkmusic\, Phoenic Live Erbsenschreck Live
DESCRIPTION:Zum Abschluss des Sommers kommt das aktivistische Leben noch mal voll auf Touren: Drei musikalische Acts der Tier- und Menschenrechts-Szene treffen sich am 4. Oktober zu einem Solikonzert für das alternative Kulturzentrum Stern e.V. in Aschaffenburg: \nErbsenschreck\nDie beiden Nürnberger sagen von sich: „Wir sind nur zwei weitere radikale Veganisten\, die versuchen\, Tieren eine Stimme zu geben.“ Doch ganz so bescheiden läuft das musikalisch-aktivistische Leben der Beiden längst nicht mehr\, sind sie doch in den letzten Jahren mit ihrer Vegan-Funk-Punk-Musik zu echten Stars der Tierrechtsszene in Deutschland geworden.\nWer sie bisher nur von Demos kennt\, sollte diese Chance nicht verpassen einmal ihr ganzes Programm live und in Farbe zu erleben – die beiden machen eine Wahnsinns Show! \nphoeNic\nDie aktivistische Rock- und Soulröhre aus Stuttgart ist bereits zum 2. Mal ehrenamtlich auf der Bühne im Stern Aschaffenburg zu sehen – als starke Stimme für das linke Zentrum. Ihr unermüdliches Engagement für Tier- und Menschenrechte und ihr großer Gerechtigkeitssinn prägen dabei nicht nur ihre Musik\, sondern auch ihr Wirken abseits der Bühne.\nphoeNic präsentiert bekannte\, aber auch eigene Musik\, die mit Alternative-Klängen unter die Haut und Mitten in die Seele geht. Für viele in der Tierrechtsszene gehören Songs wie „Time To Change“ oder „Ben“ zu den absoluten Standards der aktvistischen Musik. Und Tanzen lässt es sich bei Nicoles Auftritten wunderbar und ausgelassen… \nvolk_music\nDer Rapper aus der Nähe von Frankfurt ist aktiver Tier- und Menschenrechtler und seit ein paar Jahren gern gesehener Gast auf Demos und Straßenfesten. In mal mehr und mal weniger persönlichen Liedern\, behandelt er den Wunsch nach Freiheit und Selbstentfaltung aller fühlenden Lebewesen und begreift sich als „Liedermacher mit Beat“. Seine Beats\, die er alle selbst schreibt\, sind beeinflusst von Bands wie der Antilopengang und Musiker*innen\, wie Torch oder ‚Die P‘ und führen musikalisch zurück in die goldene Rap-Zeit der 90er Jahre. \nDanke für das Plakatdesign an @jayjay_vegan !
URL:https://www.erbsenschreck.de/event/erbsenschreck-volkmusic-phoenic-live/
CATEGORIES:Konzert
ATTACH;FMTTYPE=image/png:https://www.erbsenschreck.de/wp-content/uploads/2025/07/solikonzert.png
END:VEVENT
END:VCALENDAR